﻿BEGIN:VCALENDAR
VERSION:2.0
PRODID:-//Instituto de Matemáticas - ECPv4.5.11//NONSGML v1.0//EN
CALSCALE:GREGORIAN
METHOD:PUBLISH
X-WR-CALNAME:Instituto de Matemáticas
X-ORIGINAL-URL:http://ima.ucv.cl
X-WR-CALDESC:Events for Instituto de Matemáticas
BEGIN:VEVENT
DTSTART;VALUE=DATE:20180824
DTEND;VALUE=DATE:20180824
DTSTAMP:20260421T084621
CREATED:20180719T150726Z
LAST-MODIFIED:20180822T135708Z
UID:9702-1535068800-1535155199@ima.ucv.cl
SUMMARY:Taller: El rol potenciador del Conocimiento Interpretativo
DESCRIPTION:Viernes 24 de agosto\, Sala Aula\, IMA PUCV\, de 11:00 a 13:00 horas. Más información en: \nTaller: El rol potenciador del Conocimiento Interpretativo \n \n
URL:http://ima.ucv.cl/event/taller-el-rol-potenciador-del-conocimiento-interpretativo/
ORGANIZER;CN="Diana%20Zakaryan":MAILTO:xjnem@pucv.cl
END:VEVENT
END:VCALENDAR