﻿BEGIN:VCALENDAR
VERSION:2.0
PRODID:-//Instituto de Matemáticas - ECPv4.5.11//NONSGML v1.0//EN
CALSCALE:GREGORIAN
METHOD:PUBLISH
X-WR-CALNAME:Instituto de Matemáticas
X-ORIGINAL-URL:http://ima.ucv.cl
X-WR-CALDESC:Events for Instituto de Matemáticas
BEGIN:VEVENT
DTSTART;TZID=America/Santiago:20181025T114500
DTEND;TZID=America/Santiago:20181025T131500
DTSTAMP:20260419T191329
CREATED:20181023T181834Z
LAST-MODIFIED:20181023T181834Z
UID:10114-1540467900-1540473300@ima.ucv.cl
SUMMARY:Taller del Buen Profesor
DESCRIPTION:Este próximo jueves 25 de octubre en la sala Aula del Instituto\, se realizará una nueva sesión del Taller del Buen Profesor \, en la cual se presentará al profesor Arturo Mena quien expondrá el tema “Seis dimensiones del rol del Profesor de Matemáticas”. \n
URL:http://ima.ucv.cl/event/taller-del-buen-profesor-7/
END:VEVENT
END:VCALENDAR