﻿BEGIN:VCALENDAR
VERSION:2.0
PRODID:-//Instituto de Matemáticas - ECPv4.5.11//NONSGML v1.0//EN
CALSCALE:GREGORIAN
METHOD:PUBLISH
X-WR-CALNAME:Instituto de Matemáticas
X-ORIGINAL-URL:http://ima.ucv.cl
X-WR-CALDESC:Events for Instituto de Matemáticas
BEGIN:VEVENT
DTSTART;VALUE=DATE:20181203
DTEND;VALUE=DATE:20181203
DTSTAMP:20260420T003445
CREATED:20181121T171754Z
LAST-MODIFIED:20181122T184734Z
UID:10506-1543795200-1543881599@ima.ucv.cl
SUMMARY:Taller Prof. Dra. Rita Borromeo Ferri\, University of Kassel (Alemania)
DESCRIPTION: \n
URL:http://ima.ucv.cl/event/taller-con-la-dra-rita-borromeo-ferri-de-university-of-kassel-alemania/
LOCATION:Blanco Viel 596\, Valparaíso\, Chile
END:VEVENT
END:VCALENDAR