﻿BEGIN:VCALENDAR
VERSION:2.0
PRODID:-//Instituto de Matemáticas - ECPv4.5.11//NONSGML v1.0//EN
CALSCALE:GREGORIAN
METHOD:PUBLISH
X-WR-CALNAME:Instituto de Matemáticas
X-ORIGINAL-URL:http://ima.ucv.cl
X-WR-CALDESC:Events for Instituto de Matemáticas
BEGIN:VEVENT
DTSTART;VALUE=DATE:20181119
DTEND;VALUE=DATE:20181119
DTSTAMP:20260419T203259
CREATED:20181115T133500Z
LAST-MODIFIED:20181115T133500Z
UID:10455-1542585600-1542671999@ima.ucv.cl
SUMMARY:Presentación de Libro
DESCRIPTION:El lunes 19 de noviembre\, en la sala 2-3 del Instituto de Matemáticas (IMA) de la Pontificia Universidad Católica de Valparaíso (PUCV)\, se realizará la presentación del libro “Estadística y Probabilidades para profesores de Matemática”. Esta actividad contará con la conferencia de la Dra. Claudia Vásquez de la Pontificia Universidad Católica de Chile (PUC). \n
URL:http://ima.ucv.cl/event/presentacion-de-libro/
END:VEVENT
END:VCALENDAR