﻿BEGIN:VCALENDAR
VERSION:2.0
PRODID:-//Instituto de Matemáticas - ECPv4.5.11//NONSGML v1.0//EN
CALSCALE:GREGORIAN
METHOD:PUBLISH
X-WR-CALNAME:Instituto de Matemáticas
X-ORIGINAL-URL:http://ima.ucv.cl
X-WR-CALDESC:Events for Instituto de Matemáticas
BEGIN:VEVENT
DTSTART;VALUE=DATE:20181123
DTEND;VALUE=DATE:20181123
DTSTAMP:20260419T231436
CREATED:20181122T202006Z
LAST-MODIFIED:20181122T202006Z
UID:10520-1542931200-1543017599@ima.ucv.cl
SUMMARY:Premiación concurso fotografía Valparaiso con Mirada Matemática
DESCRIPTION:
URL:http://ima.ucv.cl/event/premiacion-concurso-fotografia-valparaiso-con-mirada-matematica/
LOCATION:Blanco Viel 596\, Valparaíso\, Chile
END:VEVENT
END:VCALENDAR