﻿BEGIN:VCALENDAR
VERSION:2.0
PRODID:-//Instituto de Matemáticas - ECPv4.5.11//NONSGML v1.0//EN
CALSCALE:GREGORIAN
METHOD:PUBLISH
X-WR-CALNAME:Instituto de Matemáticas
X-ORIGINAL-URL:http://ima.ucv.cl
X-WR-CALDESC:Events for Instituto de Matemáticas
BEGIN:VEVENT
DTSTART;VALUE=DATE:20181120
DTEND;VALUE=DATE:20181120
DTSTAMP:20260419T231303
CREATED:20181115T134138Z
LAST-MODIFIED:20181115T134138Z
UID:10459-1542672000-1542758399@ima.ucv.cl
SUMMARY:Jornada Conjunta Coloquio y TBP
DESCRIPTION: \n
URL:http://ima.ucv.cl/event/jornada-conjunta-coloquio-y-tbp/
END:VEVENT
END:VCALENDAR