﻿BEGIN:VCALENDAR
VERSION:2.0
PRODID:-//Instituto de Matemáticas - ECPv4.5.11//NONSGML v1.0//EN
CALSCALE:GREGORIAN
METHOD:PUBLISH
X-WR-CALNAME:Instituto de Matemáticas
X-ORIGINAL-URL:http://ima.ucv.cl
X-WR-CALDESC:Events for Instituto de Matemáticas
BEGIN:VEVENT
DTSTART;TZID=America/Santiago:20190514T160000
DTEND;TZID=America/Santiago:20190514T180000
DTSTAMP:20260420T060638
CREATED:20190508T212737Z
LAST-MODIFIED:20190508T212737Z
UID:11962-1557849600-1557856800@ima.ucv.cl
SUMMARY:Investidura de Piochas
DESCRIPTION:Ceremonia en la que se hace entrega de piochas a los Profesores en Formación. Esta actividad se llevará a cabo el próximo martes 14 de mayo\, en la sala Aula del Instituto. \n
URL:http://ima.ucv.cl/event/investidura-de-piochas/
END:VEVENT
END:VCALENDAR