﻿BEGIN:VCALENDAR
VERSION:2.0
PRODID:-//Instituto de Matemáticas - ECPv4.5.11//NONSGML v1.0//EN
CALSCALE:GREGORIAN
METHOD:PUBLISH
X-WR-CALNAME:Instituto de Matemáticas
X-ORIGINAL-URL:http://ima.ucv.cl
X-WR-CALDESC:Events for Instituto de Matemáticas
BEGIN:VEVENT
DTSTART;TZID=America/Santiago:20190325T143000
DTEND;TZID=America/Santiago:20190325T170000
DTSTAMP:20260419T231621
CREATED:20190314T125159Z
LAST-MODIFIED:20190314T125159Z
UID:11079-1553524200-1553533200@ima.ucv.cl
SUMMARY:Examen de Grado Doctor en Didáctica de la Matemática - Srta. Palmenia Rodríguez
DESCRIPTION:
URL:http://ima.ucv.cl/event/examen-de-grado-doctor-en-didactica-de-la-matematica-srta-palmenia-rodriguez/
END:VEVENT
END:VCALENDAR