﻿BEGIN:VCALENDAR
VERSION:2.0
PRODID:-//Instituto de Matemáticas - ECPv4.5.11//NONSGML v1.0//EN
CALSCALE:GREGORIAN
METHOD:PUBLISH
X-WR-CALNAME:Instituto de Matemáticas
X-ORIGINAL-URL:http://ima.ucv.cl
X-WR-CALDESC:Events for Instituto de Matemáticas
BEGIN:VEVENT
DTSTART;VALUE=DATE:20190314
DTEND;VALUE=DATE:20190314
DTSTAMP:20260419T231122
CREATED:20190103T200353Z
LAST-MODIFIED:20190103T200353Z
UID:10909-1552521600-1552607999@ima.ucv.cl
SUMMARY:Día de pi 2019
DESCRIPTION:
URL:http://ima.ucv.cl/event/dia-de-pi-2019/
END:VEVENT
END:VCALENDAR