﻿BEGIN:VCALENDAR
VERSION:2.0
PRODID:-//Instituto de Matemáticas - ECPv4.5.11//NONSGML v1.0//EN
CALSCALE:GREGORIAN
METHOD:PUBLISH
X-WR-CALNAME:Instituto de Matemáticas
X-ORIGINAL-URL:http://ima.ucv.cl
X-WR-CALDESC:Events for Instituto de Matemáticas
BEGIN:VEVENT
DTSTART;VALUE=DATE:20190111
DTEND;VALUE=DATE:20190111
DTSTAMP:20260419T231736
CREATED:20181220T190805Z
LAST-MODIFIED:20181220T190838Z
UID:10855-1547164800-1547251199@ima.ucv.cl
SUMMARY:Curso de Verano: Discusiones teóricas y metodológicas en el contexto de la investigación en Educación Matemática y las particularidades de la escritura de artículos científicos
DESCRIPTION: \nMás información en: \nDiscusiones teóricas y metodológicas en el contexto de la investigación en Educación Matemática y las particularidades de la escritura de artículos científicos \n \n
URL:http://ima.ucv.cl/event/curso-de-verano-discusiones-teoricas-y-metodologicas-en-el-contexto-de-la-investigacion-en-educacion-matematica-y-las-particularidades-de-la-escritura-de-articulos-cientificos/
LOCATION:Blanco Viel 596\, Valparaíso\, Chile
END:VEVENT
END:VCALENDAR