﻿BEGIN:VCALENDAR
VERSION:2.0
PRODID:-//Instituto de Matemáticas - ECPv4.5.11//NONSGML v1.0//EN
CALSCALE:GREGORIAN
METHOD:PUBLISH
X-WR-CALNAME:Instituto de Matemáticas
X-ORIGINAL-URL:http://ima.ucv.cl
X-WR-CALDESC:Events for Instituto de Matemáticas
BEGIN:VEVENT
DTSTART;VALUE=DATE:20181122
DTEND;VALUE=DATE:20181122
DTSTAMP:20260419T220817
CREATED:20181106T191338Z
LAST-MODIFIED:20181115T131911Z
UID:10246-1542844800-1542931199@ima.ucv.cl
SUMMARY:Clase Pública de Matemática
DESCRIPTION:Clase Pública de Matemática\nPara futuros profesores de enseñanza básica y media \nActividad gratuita | Cupos limitados \n22 de noviembre\, 2018 \n09.30 – Entrega de material\n10.00 – Clase enseñanza básica\n15.00 – Clase enseñanza media \nAula Mayor\, Facultad de Ingeniería PUCV\nAv. Brasil 2241\, Valparaíso \nVER FORMULARIO DE INSCRIPCIÓN \nContacto: elisabeth.ramos@pucv.cl \n
URL:http://ima.ucv.cl/event/clase-publica-de-matematica/
END:VEVENT
END:VCALENDAR