﻿BEGIN:VCALENDAR
VERSION:2.0
PRODID:-//Instituto de Matemáticas - ECPv4.5.11//NONSGML v1.0//EN
CALSCALE:GREGORIAN
METHOD:PUBLISH
X-WR-CALNAME:Instituto de Matemáticas
X-ORIGINAL-URL:http://ima.ucv.cl
X-WR-CALDESC:Events for Instituto de Matemáticas
BEGIN:VEVENT
DTSTART;VALUE=DATE:20181206
DTEND;VALUE=DATE:20181206
DTSTAMP:20260420T014908
CREATED:20181122T184613Z
LAST-MODIFIED:20181122T184613Z
UID:10516-1544054400-1544140799@ima.ucv.cl
SUMMARY:Charla Prof. Dr. Andreas Meister\, University of Kassel (Germany)
DESCRIPTION:
URL:http://ima.ucv.cl/event/charla-prof-dr-andreas-meister-university-of-kassel-germany/
LOCATION:Blanco Viel 596\, Valparaíso\, Chile
END:VEVENT
END:VCALENDAR