﻿BEGIN:VCALENDAR
VERSION:2.0
PRODID:-//Instituto de Matemáticas - ECPv4.5.11//NONSGML v1.0//EN
CALSCALE:GREGORIAN
METHOD:PUBLISH
X-WR-CALNAME:Instituto de Matemáticas
X-ORIGINAL-URL:http://ima.ucv.cl
X-WR-CALDESC:Events for Instituto de Matemáticas
BEGIN:VEVENT
DTSTART;TZID=America/Santiago:20181030T183000
DTEND;TZID=America/Santiago:20181030T193000
DTSTAMP:20260419T122754
CREATED:20181022T145806Z
LAST-MODIFIED:20181022T145806Z
UID:10111-1540924200-1540927800@ima.ucv.cl
SUMMARY:Ceremonia de Graduación y Titulación 2018
DESCRIPTION:El martes 30 de Octubre en el salón de Honor de la Casa Central de la PUCV\, se efectuará la Ceremonia de Graduación y Titulación de los egresados de las carreras de Pedagogía en Matemáticas y Licenciatura en Matemáticas. \n
URL:http://ima.ucv.cl/event/ceremonia-de-graduacion-y-titulacion-2018/
END:VEVENT
END:VCALENDAR